BEGIN:VCALENDAR
VERSION:2.0
PRODID:-//MMCF - ECPv6.15.12.2//NONSGML v1.0//EN
CALSCALE:GREGORIAN
METHOD:PUBLISH
X-ORIGINAL-URL:https://moore-myers.org
X-WR-CALDESC:Events for MMCF
REFRESH-INTERVAL;VALUE=DURATION:PT1H
X-Robots-Tag:noindex
X-PUBLISHED-TTL:PT1H
BEGIN:VTIMEZONE
TZID:America/New_York
BEGIN:DAYLIGHT
TZOFFSETFROM:-0500
TZOFFSETTO:-0400
TZNAME:EDT
DTSTART:20250309T070000
END:DAYLIGHT
BEGIN:STANDARD
TZOFFSETFROM:-0400
TZOFFSETTO:-0500
TZNAME:EST
DTSTART:20251102T060000
END:STANDARD
BEGIN:DAYLIGHT
TZOFFSETFROM:-0500
TZOFFSETTO:-0400
TZNAME:EDT
DTSTART:20260308T070000
END:DAYLIGHT
BEGIN:STANDARD
TZOFFSETFROM:-0400
TZOFFSETTO:-0500
TZNAME:EST
DTSTART:20261101T060000
END:STANDARD
BEGIN:DAYLIGHT
TZOFFSETFROM:-0500
TZOFFSETTO:-0400
TZNAME:EDT
DTSTART:20270314T070000
END:DAYLIGHT
BEGIN:STANDARD
TZOFFSETFROM:-0400
TZOFFSETTO:-0500
TZNAME:EST
DTSTART:20271107T060000
END:STANDARD
END:VTIMEZONE
BEGIN:VEVENT
DTSTART;VALUE=DATE:20260418
DTEND;VALUE=DATE:20260419
DTSTAMP:20260419T184925
CREATED:20260202T160108Z
LAST-MODIFIED:20260323T112855Z
UID:10000582-1776470400-1776556799@moore-myers.org
SUMMARY:Workshop: FINANCIAL LITERACY
DESCRIPTION:Workshop: Financial Literacy workshop\n\n\nTopics: saving\, investing\, retirement\, will\, and trust\n\n\n\nPresenter: Mrs. Janeen Smith\n\nLocation: Beaver Street Enterprise Center\n1225 W Beaver St\nJacksonville\, FL  32204\n\nTime: 1:00 PM\n*Lunch will be served
URL:https://moore-myers.org/event/workshop-financial-literacy/
LOCATION:FL
CATEGORIES:Workshop
ATTACH;FMTTYPE=image/png:https://moore-myers.org/wp-content/uploads/2026/02/Workshop-FINANCIAL-LITERACY-.png
END:VEVENT
END:VCALENDAR