BEGIN:VCALENDAR
VERSION:2.0
PRODID:-//MMCF - ECPv6.15.12.2//NONSGML v1.0//EN
CALSCALE:GREGORIAN
METHOD:PUBLISH
X-WR-CALNAME:MMCF
X-ORIGINAL-URL:https://moore-myers.org
X-WR-CALDESC:Events for MMCF
REFRESH-INTERVAL;VALUE=DURATION:PT1H
X-Robots-Tag:noindex
X-PUBLISHED-TTL:PT1H
BEGIN:VTIMEZONE
TZID:America/New_York
BEGIN:DAYLIGHT
TZOFFSETFROM:-0500
TZOFFSETTO:-0400
TZNAME:EDT
DTSTART:20240310T070000
END:DAYLIGHT
BEGIN:STANDARD
TZOFFSETFROM:-0400
TZOFFSETTO:-0500
TZNAME:EST
DTSTART:20241103T060000
END:STANDARD
BEGIN:DAYLIGHT
TZOFFSETFROM:-0500
TZOFFSETTO:-0400
TZNAME:EDT
DTSTART:20250309T070000
END:DAYLIGHT
BEGIN:STANDARD
TZOFFSETFROM:-0400
TZOFFSETTO:-0500
TZNAME:EST
DTSTART:20251102T060000
END:STANDARD
BEGIN:DAYLIGHT
TZOFFSETFROM:-0500
TZOFFSETTO:-0400
TZNAME:EDT
DTSTART:20260308T070000
END:DAYLIGHT
BEGIN:STANDARD
TZOFFSETFROM:-0400
TZOFFSETTO:-0500
TZNAME:EST
DTSTART:20261101T060000
END:STANDARD
END:VTIMEZONE
BEGIN:VEVENT
DTSTART;TZID=America/New_York:20251206T080000
DTEND;TZID=America/New_York:20251206T080000
DTSTAMP:20260419T110235
CREATED:20250608T002752Z
LAST-MODIFIED:20250608T002752Z
UID:10000564-1765008000-1765008000@moore-myers.org
SUMMARY:LADIES ON LINKS
DESCRIPTION:
URL:https://moore-myers.org/event/ladies-on-links-24/
LOCATION:UNF Golf Complex\, 1 Betty Holzendorf Drive (Building 48)\, Jacksonville\, FL\, 32224\, United States
CATEGORIES:Growth Academy,Training
ATTACH;FMTTYPE=image/png:https://moore-myers.org/wp-content/uploads/2025/05/3.png
END:VEVENT
BEGIN:VEVENT
DTSTART;TZID=America/New_York:20251206T090000
DTEND;TZID=America/New_York:20251206T090000
DTSTAMP:20260419T110235
CREATED:20250608T002508Z
LAST-MODIFIED:20250608T002859Z
UID:10000563-1765011600-1765011600@moore-myers.org
SUMMARY:INTERMEDIATE
DESCRIPTION:
URL:https://moore-myers.org/event/intermediate-28/
LOCATION:Brentwood Golf Course\, 1157 Golfair Blvd.\, Jacksonville\, FL\, 32209\, United States
CATEGORIES:Growth Academy,Training
ATTACH;FMTTYPE=image/png:https://moore-myers.org/wp-content/uploads/2025/05/EVENTS-CALENDAR-Poster-1.png
GEO:30.3680207;-81.6745261
X-APPLE-STRUCTURED-LOCATION;VALUE=URI;X-ADDRESS=Brentwood Golf Course 1157 Golfair Blvd. Jacksonville FL 32209 United States;X-APPLE-RADIUS=500;X-TITLE=1157 Golfair Blvd.:geo:-81.6745261,30.3680207
END:VEVENT
BEGIN:VEVENT
DTSTART;TZID=America/New_York:20251206T090000
DTEND;TZID=America/New_York:20251206T100000
DTSTAMP:20260419T110235
CREATED:20250608T000106Z
LAST-MODIFIED:20251123T192925Z
UID:10000562-1765011600-1765015200@moore-myers.org
SUMMARY:GROWTH ACADEMY
DESCRIPTION:
URL:https://moore-myers.org/event/growth-academy-29/
LOCATION:UNF Golf Complex\, 1 Betty Holzendorf Drive (Building 48)\, Jacksonville\, FL\, 32224\, United States
CATEGORIES:Growth Academy,Training
ATTACH;FMTTYPE=image/png:https://moore-myers.org/wp-content/uploads/2025/05/EVENTS-CALENDAR-Poster-2.png
END:VEVENT
BEGIN:VEVENT
DTSTART;TZID=America/New_York:20251206T110000
DTEND;TZID=America/New_York:20251206T150000
DTSTAMP:20260419T110235
CREATED:20251128T181158Z
LAST-MODIFIED:20251128T181943Z
UID:10000576-1765018800-1765033200@moore-myers.org
SUMMARY:LET'S MOVE JACKSONVILLE
DESCRIPTION:Everybody is invited to attend this event: LET’S MOVE JACKSONVILLE
URL:https://moore-myers.org/event/lets-move-jacksonville/
LOCATION:Henry J. Klutho Park\, 204 West 3rd Street\, Jacksonville\, FL\, United States
CATEGORIES:Gathering
ATTACH;FMTTYPE=image/png:https://moore-myers.org/wp-content/uploads/2025/05/EVENTS-CALENDAR-Poster-2.png
END:VEVENT
BEGIN:VEVENT
DTSTART;TZID=America/New_York:20251211T180000
DTEND;TZID=America/New_York:20251211T200000
DTSTAMP:20260419T110235
CREATED:20250607T235214Z
LAST-MODIFIED:20251128T182638Z
UID:10000561-1765476000-1765483200@moore-myers.org
SUMMARY:Hope for the Holidays Community Service Project
DESCRIPTION:Venue: TPC Sawgrass Lower Clubhouse Parking Lot
URL:https://moore-myers.org/event/hope-for-the-holidays-community-service-project/
LOCATION:TPC Sawgrass\, 110 Championship Way\, Ponte Vedra Beach\, Jacksonville\, FL\, 32082\, United States
CATEGORIES:Workshop
ATTACH;FMTTYPE=image/png:https://moore-myers.org/wp-content/uploads/2025/05/EVENTS-CALENDAR-Poster-2.png
GEO:30.1970977;-81.3989584
X-APPLE-STRUCTURED-LOCATION;VALUE=URI;X-ADDRESS=TPC Sawgrass 110 Championship Way Ponte Vedra Beach Jacksonville FL 32082 United States;X-APPLE-RADIUS=500;X-TITLE=110 Championship Way\, Ponte Vedra Beach:geo:-81.3989584,30.1970977
END:VEVENT
BEGIN:VEVENT
DTSTART;VALUE=DATE:20251220
DTEND;VALUE=DATE:20251221
DTSTAMP:20260419T110235
CREATED:20250606T075139Z
LAST-MODIFIED:20251123T194156Z
UID:10000557-1766188800-1766275199@moore-myers.org
SUMMARY:JAGA Family Championship
DESCRIPTION:The JAGA Family Championship
URL:https://moore-myers.org/event/family-championship-2/
LOCATION:Jax Beach Golf Course\, 605 Penman Rd S.\, Jacksonville Beach\, FL\, 32250\, United States
CATEGORIES:Tournament
ATTACH;FMTTYPE=image/png:https://moore-myers.org/wp-content/uploads/2025/05/EVENTS-CALENDAR-Poster-2.png
END:VEVENT
BEGIN:VEVENT
DTSTART;TZID=America/New_York:20251223T120000
DTEND;TZID=America/New_York:20251223T170000
DTSTAMP:20260419T110235
CREATED:20251219T134445Z
LAST-MODIFIED:20251219T134445Z
UID:10000577-1766491200-1766509200@moore-myers.org
SUMMARY:MMCF Intermediate Eagles Playday
DESCRIPTION:
URL:https://moore-myers.org/event/mmcf-intermediate-eagles-playday/
LOCATION:Brentwood Golf Course\, 1157 Golfair Blvd.\, Jacksonville\, FL\, 32209\, United States
CATEGORIES:Gathering
ATTACH;FMTTYPE=image/png:https://moore-myers.org/wp-content/uploads/2025/07/1.png
GEO:30.3680207;-81.6745261
X-APPLE-STRUCTURED-LOCATION;VALUE=URI;X-ADDRESS=Brentwood Golf Course 1157 Golfair Blvd. Jacksonville FL 32209 United States;X-APPLE-RADIUS=500;X-TITLE=1157 Golfair Blvd.:geo:-81.6745261,30.3680207
END:VEVENT
END:VCALENDAR