BEGIN:VCALENDAR
VERSION:2.0
PRODID:-//MMCF - ECPv6.15.12.2//NONSGML v1.0//EN
CALSCALE:GREGORIAN
METHOD:PUBLISH
X-ORIGINAL-URL:https://moore-myers.org
X-WR-CALDESC:Events for MMCF
REFRESH-INTERVAL;VALUE=DURATION:PT1H
X-Robots-Tag:noindex
X-PUBLISHED-TTL:PT1H
BEGIN:VTIMEZONE
TZID:America/New_York
BEGIN:DAYLIGHT
TZOFFSETFROM:-0500
TZOFFSETTO:-0400
TZNAME:EDT
DTSTART:20240310T070000
END:DAYLIGHT
BEGIN:STANDARD
TZOFFSETFROM:-0400
TZOFFSETTO:-0500
TZNAME:EST
DTSTART:20241103T060000
END:STANDARD
BEGIN:DAYLIGHT
TZOFFSETFROM:-0500
TZOFFSETTO:-0400
TZNAME:EDT
DTSTART:20250309T070000
END:DAYLIGHT
BEGIN:STANDARD
TZOFFSETFROM:-0400
TZOFFSETTO:-0500
TZNAME:EST
DTSTART:20251102T060000
END:STANDARD
BEGIN:DAYLIGHT
TZOFFSETFROM:-0500
TZOFFSETTO:-0400
TZNAME:EDT
DTSTART:20260308T070000
END:DAYLIGHT
BEGIN:STANDARD
TZOFFSETFROM:-0400
TZOFFSETTO:-0500
TZNAME:EST
DTSTART:20261101T060000
END:STANDARD
END:VTIMEZONE
BEGIN:VEVENT
DTSTART;TZID=America/New_York:20250709T080000
DTEND;TZID=America/New_York:20250709T080000
DTSTAMP:20260425T152300
CREATED:20250512T075753Z
LAST-MODIFIED:20250607T213135Z
UID:10000032-1752048000-1752048000@moore-myers.org
SUMMARY:GROWTH ACADEMY
DESCRIPTION:
URL:https://moore-myers.org/event/growth-academy-22/
LOCATION:UNF Golf Complex\, 1 Betty Holzendorf Drive (Building 48)\, Jacksonville\, FL\, 32224\, United States
CATEGORIES:Growth Academy,Training
ATTACH;FMTTYPE=image/png:https://moore-myers.org/wp-content/uploads/2025/05/EVENTS-CALENDAR-Poster.png
END:VEVENT
BEGIN:VEVENT
DTSTART;TZID=America/New_York:20250710T190000
DTEND;TZID=America/New_York:20250710T190000
DTSTAMP:20260425T152300
CREATED:20250516T013722Z
LAST-MODIFIED:20250604T125052Z
UID:10000521-1752174000-1752174000@moore-myers.org
SUMMARY:Board of Directors Meeting
DESCRIPTION:
URL:https://moore-myers.org/event/board-of-directors-meeting-2/
LOCATION:Hannah Park\, 500 Wonderwood Dr. Jacksonville\, Pavilion #11\, Jacksonville\, FL\, 32233\, United States
CATEGORIES:Meeting
ATTACH;FMTTYPE=image/png:https://moore-myers.org/wp-content/uploads/2025/05/EVENTS-CALENDAR-Poster-2.png
GEO:30.3708994;-81.4891731
X-APPLE-STRUCTURED-LOCATION;VALUE=URI;X-ADDRESS=Hannah Park 500 Wonderwood Dr. Jacksonville Pavilion #11 Jacksonville FL 32233 United States;X-APPLE-RADIUS=500;X-TITLE=500 Wonderwood Dr. Jacksonville\, Pavilion #11:geo:-81.4891731,30.3708994
END:VEVENT
END:VCALENDAR