BEGIN:VCALENDAR
VERSION:2.0
PRODID:-//MMCF - ECPv6.15.12.2//NONSGML v1.0//EN
CALSCALE:GREGORIAN
METHOD:PUBLISH
X-ORIGINAL-URL:https://moore-myers.org
X-WR-CALDESC:Events for MMCF
REFRESH-INTERVAL;VALUE=DURATION:PT1H
X-Robots-Tag:noindex
X-PUBLISHED-TTL:PT1H
BEGIN:VTIMEZONE
TZID:America/New_York
BEGIN:DAYLIGHT
TZOFFSETFROM:-0500
TZOFFSETTO:-0400
TZNAME:EDT
DTSTART:20240310T070000
END:DAYLIGHT
BEGIN:STANDARD
TZOFFSETFROM:-0400
TZOFFSETTO:-0500
TZNAME:EST
DTSTART:20241103T060000
END:STANDARD
BEGIN:DAYLIGHT
TZOFFSETFROM:-0500
TZOFFSETTO:-0400
TZNAME:EDT
DTSTART:20250309T070000
END:DAYLIGHT
BEGIN:STANDARD
TZOFFSETFROM:-0400
TZOFFSETTO:-0500
TZNAME:EST
DTSTART:20251102T060000
END:STANDARD
BEGIN:DAYLIGHT
TZOFFSETFROM:-0500
TZOFFSETTO:-0400
TZNAME:EDT
DTSTART:20260308T070000
END:DAYLIGHT
BEGIN:STANDARD
TZOFFSETFROM:-0400
TZOFFSETTO:-0500
TZNAME:EST
DTSTART:20261101T060000
END:STANDARD
END:VTIMEZONE
BEGIN:VEVENT
DTSTART;TZID=America/New_York:20250412T080000
DTEND;TZID=America/New_York:20250412T140000
DTSTAMP:20260421T100857
CREATED:20250513T152526Z
LAST-MODIFIED:20250513T153513Z
UID:10000466-1744444800-1744466400@moore-myers.org
SUMMARY:LADIES ON LINKS
DESCRIPTION:Ladies on Links\n8:00 AM\nUNF Golf Complex
URL:https://moore-myers.org/event/ladies-on-links/2025-04-12/
LOCATION:UNF Golf Complex\, 1 Betty Holzendorf Drive (Building 48)\, Jacksonville\, FL\, 32224\, United States
CATEGORIES:Training
ATTACH;FMTTYPE=image/png:https://moore-myers.org/wp-content/uploads/2025/05/3.png
END:VEVENT
BEGIN:VEVENT
DTSTART;TZID=America/New_York:20250412T090000
DTEND;TZID=America/New_York:20250412T130000
DTSTAMP:20260421T100857
CREATED:20250512T075915Z
LAST-MODIFIED:20250512T075915Z
UID:10000048-1744448400-1744462800@moore-myers.org
SUMMARY:GROWTH ACADEMY
DESCRIPTION: \nGROWTH ACADEMY\n9:00 AM\nBrentwood Golf Course\n \nINTERMEDIATE\n10:30 AM\nBrentwood Golf Course\n \n \nLADIES ON LINKS\n11:00 AM – 1:00 PM\nBrentwood Golf Course
URL:https://moore-myers.org/event/growth-academy-34/
END:VEVENT
END:VCALENDAR