BEGIN:VCALENDAR
VERSION:2.0
PRODID:-//MMCF - ECPv6.15.12.2//NONSGML v1.0//EN
CALSCALE:GREGORIAN
METHOD:PUBLISH
X-ORIGINAL-URL:https://moore-myers.org
X-WR-CALDESC:Events for MMCF
REFRESH-INTERVAL;VALUE=DURATION:PT1H
X-Robots-Tag:noindex
X-PUBLISHED-TTL:PT1H
BEGIN:VTIMEZONE
TZID:America/New_York
BEGIN:DAYLIGHT
TZOFFSETFROM:-0500
TZOFFSETTO:-0400
TZNAME:EDT
DTSTART:20240310T070000
END:DAYLIGHT
BEGIN:STANDARD
TZOFFSETFROM:-0400
TZOFFSETTO:-0500
TZNAME:EST
DTSTART:20241103T060000
END:STANDARD
BEGIN:DAYLIGHT
TZOFFSETFROM:-0500
TZOFFSETTO:-0400
TZNAME:EDT
DTSTART:20250309T070000
END:DAYLIGHT
BEGIN:STANDARD
TZOFFSETFROM:-0400
TZOFFSETTO:-0500
TZNAME:EST
DTSTART:20251102T060000
END:STANDARD
BEGIN:DAYLIGHT
TZOFFSETFROM:-0500
TZOFFSETTO:-0400
TZNAME:EDT
DTSTART:20260308T070000
END:DAYLIGHT
BEGIN:STANDARD
TZOFFSETFROM:-0400
TZOFFSETTO:-0500
TZNAME:EST
DTSTART:20261101T060000
END:STANDARD
END:VTIMEZONE
BEGIN:VEVENT
DTSTART;VALUE=DATE:20251004
DTEND;VALUE=DATE:20251005
DTSTAMP:20260420T145352
CREATED:20250512T075633Z
LAST-MODIFIED:20250604T074406Z
UID:10000012-1759536000-1759622399@moore-myers.org
SUMMARY:Furyk and Friends Golf Tournament
DESCRIPTION:The official date\, time and venue for this event is soon to be announce.
URL:https://moore-myers.org/event/growth-academy-6/
CATEGORIES:Tournament
ATTACH;FMTTYPE=image/png:https://moore-myers.org/wp-content/uploads/2025/05/EVENTS-CALENDAR-Poster-2.png
END:VEVENT
BEGIN:VEVENT
DTSTART;VALUE=DATE:20251004
DTEND;VALUE=DATE:20251005
DTSTAMP:20260420T145352
CREATED:20250604T071247Z
LAST-MODIFIED:20250604T072230Z
UID:10000540-1759536000-1759622399@moore-myers.org
SUMMARY:Board of Directors Meeting
DESCRIPTION:The official date\, time and venue for this event is soon to be announce.
URL:https://moore-myers.org/event/board-of-directors-meeting-3/
ATTACH;FMTTYPE=image/png:https://moore-myers.org/wp-content/uploads/2025/05/EVENTS-CALENDAR-Poster-2.png
END:VEVENT
BEGIN:VEVENT
DTSTART;VALUE=DATE:20251004
DTEND;VALUE=DATE:20251005
DTSTAMP:20260420T145352
CREATED:20250604T074316Z
LAST-MODIFIED:20250604T074316Z
UID:10000541-1759536000-1759622399@moore-myers.org
SUMMARY:11th Career/Internship Fair
DESCRIPTION:The official date\, time and venue for this event is soon to be announce.
URL:https://moore-myers.org/event/11th-career-internship-fair/
CATEGORIES:Workshop
ATTACH;FMTTYPE=image/png:https://moore-myers.org/wp-content/uploads/2025/05/EVENTS-CALENDAR-Poster-2.png
END:VEVENT
BEGIN:VEVENT
DTSTART;VALUE=DATE:20251004
DTEND;VALUE=DATE:20251005
DTSTAMP:20260420T145352
CREATED:20250605T185628Z
LAST-MODIFIED:20250605T185628Z
UID:10000543-1759536000-1759622399@moore-myers.org
SUMMARY:Constellation FURYK & FRIENDS
DESCRIPTION:presented by Circle K\, Time: To Be Announce
URL:https://moore-myers.org/event/constellation-furyk-friends/
LOCATION:Timuquana Country Club\, 4028 Timuquana Rd.\, Jacksonville\, FL\, 32210\, United States
CATEGORIES:Gathering,Workshop
ATTACH;FMTTYPE=image/png:https://moore-myers.org/wp-content/uploads/2025/05/EVENTS-CALENDAR-Poster-2.png
GEO:30.241338;-81.6879125
X-APPLE-STRUCTURED-LOCATION;VALUE=URI;X-ADDRESS=Timuquana Country Club 4028 Timuquana Rd. Jacksonville FL 32210 United States;X-APPLE-RADIUS=500;X-TITLE=4028 Timuquana Rd.:geo:-81.6879125,30.241338
END:VEVENT
BEGIN:VEVENT
DTSTART;TZID=America/New_York:20251004T080000
DTEND;TZID=America/New_York:20251004T080000
DTSTAMP:20260420T145352
CREATED:20250512T075647Z
LAST-MODIFIED:20250607T232853Z
UID:10000015-1759564800-1759564800@moore-myers.org
SUMMARY:GROWTH ACADEMY
DESCRIPTION:
URL:https://moore-myers.org/event/growth-academy-9/
LOCATION:UNF Golf Complex\, 1 Betty Holzendorf Drive (Building 48)\, Jacksonville\, FL\, 32224\, United States
CATEGORIES:Growth Academy,Training
ATTACH;FMTTYPE=image/png:https://moore-myers.org/wp-content/uploads/2025/05/EVENTS-CALENDAR-Poster.png
END:VEVENT
BEGIN:VEVENT
DTSTART;TZID=America/New_York:20251004T080000
DTEND;TZID=America/New_York:20251004T080000
DTSTAMP:20260420T145352
CREATED:20250605T190134Z
LAST-MODIFIED:20250607T233003Z
UID:10000544-1759564800-1759564800@moore-myers.org
SUMMARY:LADIES ON LINKS
DESCRIPTION:
URL:https://moore-myers.org/event/ladies-on-links-16/
LOCATION:UNF Golf Complex\, 1 Betty Holzendorf Drive (Building 48)\, Jacksonville\, FL\, 32224\, United States
CATEGORIES:Growth Academy,Training
ATTACH;FMTTYPE=image/png:https://moore-myers.org/wp-content/uploads/2025/05/3.png
END:VEVENT
BEGIN:VEVENT
DTSTART;TZID=America/New_York:20251004T090000
DTEND;TZID=America/New_York:20251004T090000
DTSTAMP:20260420T145352
CREATED:20250519T184656Z
LAST-MODIFIED:20250607T233022Z
UID:10000530-1759568400-1759568400@moore-myers.org
SUMMARY:INTERMEDIATE
DESCRIPTION:
URL:https://moore-myers.org/event/intermediate-24/
LOCATION:Brentwood Golf Course\, 1157 Golfair Blvd.\, Jacksonville\, FL\, 32209\, United States
CATEGORIES:Growth Academy,Training
ATTACH;FMTTYPE=image/png:https://moore-myers.org/wp-content/uploads/2025/05/EVENTS-CALENDAR-Poster-1.png
GEO:30.3680207;-81.6745261
X-APPLE-STRUCTURED-LOCATION;VALUE=URI;X-ADDRESS=Brentwood Golf Course 1157 Golfair Blvd. Jacksonville FL 32209 United States;X-APPLE-RADIUS=500;X-TITLE=1157 Golfair Blvd.:geo:-81.6745261,30.3680207
END:VEVENT
END:VCALENDAR