BEGIN:VCALENDAR
VERSION:2.0
PRODID:-//MMCF - ECPv6.15.12.2//NONSGML v1.0//EN
CALSCALE:GREGORIAN
METHOD:PUBLISH
X-ORIGINAL-URL:https://moore-myers.org
X-WR-CALDESC:Events for MMCF
REFRESH-INTERVAL;VALUE=DURATION:PT1H
X-Robots-Tag:noindex
X-PUBLISHED-TTL:PT1H
BEGIN:VTIMEZONE
TZID:America/New_York
BEGIN:DAYLIGHT
TZOFFSETFROM:-0500
TZOFFSETTO:-0400
TZNAME:EDT
DTSTART:20240310T070000
END:DAYLIGHT
BEGIN:STANDARD
TZOFFSETFROM:-0400
TZOFFSETTO:-0500
TZNAME:EST
DTSTART:20241103T060000
END:STANDARD
BEGIN:DAYLIGHT
TZOFFSETFROM:-0500
TZOFFSETTO:-0400
TZNAME:EDT
DTSTART:20250309T070000
END:DAYLIGHT
BEGIN:STANDARD
TZOFFSETFROM:-0400
TZOFFSETTO:-0500
TZNAME:EST
DTSTART:20251102T060000
END:STANDARD
BEGIN:DAYLIGHT
TZOFFSETFROM:-0500
TZOFFSETTO:-0400
TZNAME:EDT
DTSTART:20260308T070000
END:DAYLIGHT
BEGIN:STANDARD
TZOFFSETFROM:-0400
TZOFFSETTO:-0500
TZNAME:EST
DTSTART:20261101T060000
END:STANDARD
END:VTIMEZONE
BEGIN:VEVENT
DTSTART;TZID=America/New_York:20250726T110000
DTEND;TZID=America/New_York:20250726T130000
DTSTAMP:20260421T233719
CREATED:20250515T203708Z
LAST-MODIFIED:20250724T110930Z
UID:10000481-1753527600-1753534800@moore-myers.org
SUMMARY:LADIES ON LINKS
DESCRIPTION:
URL:https://moore-myers.org/event/ladies-on-links-7/
LOCATION:Brentwood Golf Course\, 1157 Golfair Blvd.\, Jacksonville\, FL\, 32209\, United States
CATEGORIES:Growth Academy,Training
ATTACH;FMTTYPE=image/png:https://moore-myers.org/wp-content/uploads/2025/07/3.png
GEO:30.3680207;-81.6745261
X-APPLE-STRUCTURED-LOCATION;VALUE=URI;X-ADDRESS=Brentwood Golf Course 1157 Golfair Blvd. Jacksonville FL 32209 United States;X-APPLE-RADIUS=500;X-TITLE=1157 Golfair Blvd.:geo:-81.6745261,30.3680207
END:VEVENT
BEGIN:VEVENT
DTSTART;TZID=America/New_York:20250726T103000
DTEND;TZID=America/New_York:20250726T103000
DTSTAMP:20260421T233719
CREATED:20250515T130828Z
LAST-MODIFIED:20250607T214521Z
UID:10000514-1753525800-1753525800@moore-myers.org
SUMMARY:INTERMEDIATE
DESCRIPTION:
URL:https://moore-myers.org/event/intermediate-12/
LOCATION:Brentwood Golf Course\, 1157 Golfair Blvd.\, Jacksonville\, FL\, 32209\, United States
CATEGORIES:Growth Academy,Training
ATTACH;FMTTYPE=image/png:https://moore-myers.org/wp-content/uploads/2025/05/EVENTS-CALENDAR-Poster-1.png
GEO:30.3680207;-81.6745261
X-APPLE-STRUCTURED-LOCATION;VALUE=URI;X-ADDRESS=Brentwood Golf Course 1157 Golfair Blvd. Jacksonville FL 32209 United States;X-APPLE-RADIUS=500;X-TITLE=1157 Golfair Blvd.:geo:-81.6745261,30.3680207
END:VEVENT
BEGIN:VEVENT
DTSTART;TZID=America/New_York:20250726T090000
DTEND;TZID=America/New_York:20250726T090000
DTSTAMP:20260421T233719
CREATED:20250512T075720Z
LAST-MODIFIED:20250607T214451Z
UID:10000027-1753520400-1753520400@moore-myers.org
SUMMARY:GROWTH ACADEMY
DESCRIPTION:
URL:https://moore-myers.org/event/growth-academy-18/
LOCATION:Brentwood Golf Course\, 1157 Golfair Blvd.\, Jacksonville\, FL\, 32209\, United States
CATEGORIES:Growth Academy,Training
ATTACH;FMTTYPE=image/png:https://moore-myers.org/wp-content/uploads/2025/05/EVENTS-CALENDAR-Poster.png
GEO:30.3680207;-81.6745261
X-APPLE-STRUCTURED-LOCATION;VALUE=URI;X-ADDRESS=Brentwood Golf Course 1157 Golfair Blvd. Jacksonville FL 32209 United States;X-APPLE-RADIUS=500;X-TITLE=1157 Golfair Blvd.:geo:-81.6745261,30.3680207
END:VEVENT
BEGIN:VEVENT
DTSTART;TZID=America/New_York:20250719T090000
DTEND;TZID=America/New_York:20250719T090000
DTSTAMP:20260421T233719
CREATED:20250515T125244Z
LAST-MODIFIED:20250607T214141Z
UID:10000513-1752915600-1752915600@moore-myers.org
SUMMARY:INTERMEDIATE
DESCRIPTION:
URL:https://moore-myers.org/event/intermediate-11/
LOCATION:Brentwood Golf Course\, 1157 Golfair Blvd.\, Jacksonville\, FL\, 32209\, United States
CATEGORIES:Growth Academy,Training
ATTACH;FMTTYPE=image/png:https://moore-myers.org/wp-content/uploads/2025/05/EVENTS-CALENDAR-Poster-1.png
GEO:30.3680207;-81.6745261
X-APPLE-STRUCTURED-LOCATION;VALUE=URI;X-ADDRESS=Brentwood Golf Course 1157 Golfair Blvd. Jacksonville FL 32209 United States;X-APPLE-RADIUS=500;X-TITLE=1157 Golfair Blvd.:geo:-81.6745261,30.3680207
END:VEVENT
BEGIN:VEVENT
DTSTART;TZID=America/New_York:20250719T080000
DTEND;TZID=America/New_York:20250719T080000
DTSTAMP:20260421T233719
CREATED:20250515T195407Z
LAST-MODIFIED:20250607T214104Z
UID:10000480-1752912000-1752912000@moore-myers.org
SUMMARY:LADIES ON LINKS
DESCRIPTION:
URL:https://moore-myers.org/event/ladies-on-links-3-6/
LOCATION:Brentwood Golf Course\, 1157 Golfair Blvd.\, Jacksonville\, FL\, 32209\, United States
CATEGORIES:Growth Academy,Training
ATTACH;FMTTYPE=image/png:https://moore-myers.org/wp-content/uploads/2025/05/3.png
GEO:30.3680207;-81.6745261
X-APPLE-STRUCTURED-LOCATION;VALUE=URI;X-ADDRESS=Brentwood Golf Course 1157 Golfair Blvd. Jacksonville FL 32209 United States;X-APPLE-RADIUS=500;X-TITLE=1157 Golfair Blvd.:geo:-81.6745261,30.3680207
END:VEVENT
BEGIN:VEVENT
DTSTART;TZID=America/New_York:20250712T110000
DTEND;TZID=America/New_York:20250712T130000
DTSTAMP:20260421T233719
CREATED:20250709T140842Z
LAST-MODIFIED:20250709T140842Z
UID:10000575-1752318000-1752325200@moore-myers.org
SUMMARY:LADIES ON LINKS
DESCRIPTION:
URL:https://moore-myers.org/event/ladies-on-links-3/
LOCATION:Brentwood Golf Course\, 1157 Golfair Blvd.\, Jacksonville\, FL\, 32209\, United States
CATEGORIES:Growth Academy,Training
ATTACH;FMTTYPE=image/png:https://moore-myers.org/wp-content/uploads/2025/05/3.png
GEO:30.3680207;-81.6745261
X-APPLE-STRUCTURED-LOCATION;VALUE=URI;X-ADDRESS=Brentwood Golf Course 1157 Golfair Blvd. Jacksonville FL 32209 United States;X-APPLE-RADIUS=500;X-TITLE=1157 Golfair Blvd.:geo:-81.6745261,30.3680207
END:VEVENT
BEGIN:VEVENT
DTSTART;TZID=America/New_York:20250712T103000
DTEND;TZID=America/New_York:20250712T103000
DTSTAMP:20260421T233719
CREATED:20250709T140710Z
LAST-MODIFIED:20250709T140710Z
UID:10000574-1752316200-1752316200@moore-myers.org
SUMMARY:INTERMEDIATE
DESCRIPTION:
URL:https://moore-myers.org/event/intermediate-30/
LOCATION:Brentwood Golf Course\, 1157 Golfair Blvd.\, Jacksonville\, FL\, 32209\, United States
CATEGORIES:Growth Academy,Training
ATTACH;FMTTYPE=image/png:https://moore-myers.org/wp-content/uploads/2025/05/EVENTS-CALENDAR-Poster-1.png
GEO:30.3680207;-81.6745261
X-APPLE-STRUCTURED-LOCATION;VALUE=URI;X-ADDRESS=Brentwood Golf Course 1157 Golfair Blvd. Jacksonville FL 32209 United States;X-APPLE-RADIUS=500;X-TITLE=1157 Golfair Blvd.:geo:-81.6745261,30.3680207
END:VEVENT
BEGIN:VEVENT
DTSTART;TZID=America/New_York:20250712T090000
DTEND;TZID=America/New_York:20250712T090000
DTSTAMP:20260421T233719
CREATED:20250709T140347Z
LAST-MODIFIED:20250709T140347Z
UID:10000573-1752310800-1752310800@moore-myers.org
SUMMARY:GROWTH ACADEMY
DESCRIPTION:
URL:https://moore-myers.org/event/growth-academy-38/
LOCATION:Brentwood Golf Course\, 1157 Golfair Blvd.\, Jacksonville\, FL\, 32209\, United States
CATEGORIES:Growth Academy,Training
ATTACH;FMTTYPE=image/png:https://moore-myers.org/wp-content/uploads/2025/05/EVENTS-CALENDAR-Poster.png
GEO:30.3680207;-81.6745261
X-APPLE-STRUCTURED-LOCATION;VALUE=URI;X-ADDRESS=Brentwood Golf Course 1157 Golfair Blvd. Jacksonville FL 32209 United States;X-APPLE-RADIUS=500;X-TITLE=1157 Golfair Blvd.:geo:-81.6745261,30.3680207
END:VEVENT
BEGIN:VEVENT
DTSTART;TZID=America/New_York:20250628T110000
DTEND;TZID=America/New_York:20250628T130000
DTSTAMP:20260421T233719
CREATED:20250512T080022Z
LAST-MODIFIED:20250607T204111Z
UID:10000099-1751108400-1751115600@moore-myers.org
SUMMARY:LADIES ON LINKS
DESCRIPTION:
URL:https://moore-myers.org/event/training-growth-academy-3/
LOCATION:Brentwood Golf Course\, 1157 Golfair Blvd.\, Jacksonville\, FL\, 32209\, United States
CATEGORIES:Training
ATTACH;FMTTYPE=image/png:https://moore-myers.org/wp-content/uploads/2025/05/3.png
GEO:30.3680207;-81.6745261
X-APPLE-STRUCTURED-LOCATION;VALUE=URI;X-ADDRESS=Brentwood Golf Course 1157 Golfair Blvd. Jacksonville FL 32209 United States;X-APPLE-RADIUS=500;X-TITLE=1157 Golfair Blvd.:geo:-81.6745261,30.3680207
END:VEVENT
BEGIN:VEVENT
DTSTART;TZID=America/New_York:20250628T103000
DTEND;TZID=America/New_York:20250628T103000
DTSTAMP:20260421T233719
CREATED:20250512T075811Z
LAST-MODIFIED:20250607T204018Z
UID:10000036-1751106600-1751106600@moore-myers.org
SUMMARY:INTERMEDIATE
DESCRIPTION:
URL:https://moore-myers.org/event/growth-academy-25/
LOCATION:Brentwood Golf Course\, 1157 Golfair Blvd.\, Jacksonville\, FL\, 32209\, United States
CATEGORIES:Growth Academy,Training
ATTACH;FMTTYPE=image/png:https://moore-myers.org/wp-content/uploads/2025/05/EVENTS-CALENDAR-Poster-1.png
GEO:30.3680207;-81.6745261
X-APPLE-STRUCTURED-LOCATION;VALUE=URI;X-ADDRESS=Brentwood Golf Course 1157 Golfair Blvd. Jacksonville FL 32209 United States;X-APPLE-RADIUS=500;X-TITLE=1157 Golfair Blvd.:geo:-81.6745261,30.3680207
END:VEVENT
BEGIN:VEVENT
DTSTART;TZID=America/New_York:20250628T090000
DTEND;TZID=America/New_York:20250628T090000
DTSTAMP:20260421T233719
CREATED:20250512T075941Z
LAST-MODIFIED:20250607T203910Z
UID:10000072-1751101200-1751101200@moore-myers.org
SUMMARY:GROWTH ACADEMY
DESCRIPTION:
URL:https://moore-myers.org/event/began-wednesday-training-sessions-2/
LOCATION:Brentwood Golf Course\, 1157 Golfair Blvd.\, Jacksonville\, FL\, 32209\, United States
CATEGORIES:Growth Academy,Training
ATTACH;FMTTYPE=image/png:https://moore-myers.org/wp-content/uploads/2025/05/EVENTS-CALENDAR-Poster.png
GEO:30.3680207;-81.6745261
X-APPLE-STRUCTURED-LOCATION;VALUE=URI;X-ADDRESS=Brentwood Golf Course 1157 Golfair Blvd. Jacksonville FL 32209 United States;X-APPLE-RADIUS=500;X-TITLE=1157 Golfair Blvd.:geo:-81.6745261,30.3680207
END:VEVENT
BEGIN:VEVENT
DTSTART;TZID=America/New_York:20250625T090000
DTEND;TZID=America/New_York:20250625T090000
DTSTAMP:20260421T233719
CREATED:20250512T075932Z
LAST-MODIFIED:20250607T202658Z
UID:10000070-1750842000-1750842000@moore-myers.org
SUMMARY:INTERMEDIATE
DESCRIPTION:
URL:https://moore-myers.org/event/effective-communication/
LOCATION:Brentwood Golf Course\, 1157 Golfair Blvd.\, Jacksonville\, FL\, 32209\, United States
CATEGORIES:Growth Academy,Training
ATTACH;FMTTYPE=image/png:https://moore-myers.org/wp-content/uploads/2025/05/EVENTS-CALENDAR-Poster-1.png
GEO:30.3680207;-81.6745261
X-APPLE-STRUCTURED-LOCATION;VALUE=URI;X-ADDRESS=Brentwood Golf Course 1157 Golfair Blvd. Jacksonville FL 32209 United States;X-APPLE-RADIUS=500;X-TITLE=1157 Golfair Blvd.:geo:-81.6745261,30.3680207
END:VEVENT
BEGIN:VEVENT
DTSTART;TZID=America/New_York:20250621T090000
DTEND;TZID=America/New_York:20250621T090000
DTSTAMP:20260421T233719
CREATED:20250514T082113Z
LAST-MODIFIED:20250607T202534Z
UID:10000476-1750496400-1750496400@moore-myers.org
SUMMARY:INTERMEDIATE
DESCRIPTION:
URL:https://moore-myers.org/event/ladies-on-links-3-5/
LOCATION:Brentwood Golf Course\, 1157 Golfair Blvd.\, Jacksonville\, FL\, 32209\, United States
CATEGORIES:Growth Academy,Training
ATTACH;FMTTYPE=image/png:https://moore-myers.org/wp-content/uploads/2025/05/EVENTS-CALENDAR-Poster-1.png
GEO:30.3680207;-81.6745261
X-APPLE-STRUCTURED-LOCATION;VALUE=URI;X-ADDRESS=Brentwood Golf Course 1157 Golfair Blvd. Jacksonville FL 32209 United States;X-APPLE-RADIUS=500;X-TITLE=1157 Golfair Blvd.:geo:-81.6745261,30.3680207
END:VEVENT
BEGIN:VEVENT
DTSTART;TZID=America/New_York:20250618T090000
DTEND;TZID=America/New_York:20250618T090000
DTSTAMP:20260421T233719
CREATED:20250512T080002Z
LAST-MODIFIED:20250607T202507Z
UID:10000090-1750237200-1750237200@moore-myers.org
SUMMARY:INTERMEDIATE
DESCRIPTION:
URL:https://moore-myers.org/event/dining-etiquette-workshop/
LOCATION:Brentwood Golf Course\, 1157 Golfair Blvd.\, Jacksonville\, FL\, 32209\, United States
CATEGORIES:Growth Academy,Training
ATTACH;FMTTYPE=image/png:https://moore-myers.org/wp-content/uploads/2025/05/EVENTS-CALENDAR-Poster-1.png
GEO:30.3680207;-81.6745261
X-APPLE-STRUCTURED-LOCATION;VALUE=URI;X-ADDRESS=Brentwood Golf Course 1157 Golfair Blvd. Jacksonville FL 32209 United States;X-APPLE-RADIUS=500;X-TITLE=1157 Golfair Blvd.:geo:-81.6745261,30.3680207
END:VEVENT
BEGIN:VEVENT
DTSTART;TZID=America/New_York:20250614T103000
DTEND;TZID=America/New_York:20250614T103000
DTSTAMP:20260421T233719
CREATED:20250514T002914Z
LAST-MODIFIED:20250607T215601Z
UID:10000475-1749897000-1749897000@moore-myers.org
SUMMARY:INTERMEDIATE
DESCRIPTION:
URL:https://moore-myers.org/event/ladies-on-links-3-2/
LOCATION:Brentwood Golf Course\, 1157 Golfair Blvd.\, Jacksonville\, FL\, 32209\, United States
CATEGORIES:Growth Academy,Training
ATTACH;FMTTYPE=image/png:https://moore-myers.org/wp-content/uploads/2025/05/EVENTS-CALENDAR-Poster-1.png
GEO:30.3680207;-81.6745261
X-APPLE-STRUCTURED-LOCATION;VALUE=URI;X-ADDRESS=Brentwood Golf Course 1157 Golfair Blvd. Jacksonville FL 32209 United States;X-APPLE-RADIUS=500;X-TITLE=1157 Golfair Blvd.:geo:-81.6745261,30.3680207
END:VEVENT
BEGIN:VEVENT
DTSTART;TZID=America/New_York:20250614T090000
DTEND;TZID=America/New_York:20250614T090000
DTSTAMP:20260421T233719
CREATED:20250512T080012Z
LAST-MODIFIED:20250607T215019Z
UID:10000096-1749891600-1749891600@moore-myers.org
SUMMARY:GROWTH ACADEMY
DESCRIPTION:
URL:https://moore-myers.org/event/training-growth-academy-2/
LOCATION:Brentwood Golf Course\, 1157 Golfair Blvd.\, Jacksonville\, FL\, 32209\, United States
ATTACH;FMTTYPE=image/png:https://moore-myers.org/wp-content/uploads/2025/05/EVENTS-CALENDAR-Poster.png
GEO:30.3680207;-81.6745261
X-APPLE-STRUCTURED-LOCATION;VALUE=URI;X-ADDRESS=Brentwood Golf Course 1157 Golfair Blvd. Jacksonville FL 32209 United States;X-APPLE-RADIUS=500;X-TITLE=1157 Golfair Blvd.:geo:-81.6745261,30.3680207
END:VEVENT
BEGIN:VEVENT
DTSTART;TZID=America/New_York:20250611T090000
DTEND;TZID=America/New_York:20250611T090000
DTSTAMP:20260421T233719
CREATED:20250512T080012Z
LAST-MODIFIED:20250607T202300Z
UID:10000094-1749632400-1749632400@moore-myers.org
SUMMARY:INTERMEDIATE
DESCRIPTION:
URL:https://moore-myers.org/event/training-ladies-on-links-2/
LOCATION:Brentwood Golf Course\, 1157 Golfair Blvd.\, Jacksonville\, FL\, 32209\, United States
CATEGORIES:Growth Academy,Training
ATTACH;FMTTYPE=image/png:https://moore-myers.org/wp-content/uploads/2025/05/EVENTS-CALENDAR-Poster-1.png
GEO:30.3680207;-81.6745261
X-APPLE-STRUCTURED-LOCATION;VALUE=URI;X-ADDRESS=Brentwood Golf Course 1157 Golfair Blvd. Jacksonville FL 32209 United States;X-APPLE-RADIUS=500;X-TITLE=1157 Golfair Blvd.:geo:-81.6745261,30.3680207
END:VEVENT
BEGIN:VEVENT
DTSTART;TZID=America/New_York:20250607T090000
DTEND;TZID=America/New_York:20250607T090000
DTSTAMP:20260421T233719
CREATED:20250513T221630Z
LAST-MODIFIED:20250607T201902Z
UID:10000506-1749286800-1749286800@moore-myers.org
SUMMARY:INTERMEDIATE
DESCRIPTION:
URL:https://moore-myers.org/event/intermediate-4/
LOCATION:Brentwood Golf Course\, 1157 Golfair Blvd.\, Jacksonville\, FL\, 32209\, United States
CATEGORIES:Growth Academy,Training
ATTACH;FMTTYPE=image/png:https://moore-myers.org/wp-content/uploads/2025/05/EVENTS-CALENDAR-Poster-1.png
GEO:30.3680207;-81.6745261
X-APPLE-STRUCTURED-LOCATION;VALUE=URI;X-ADDRESS=Brentwood Golf Course 1157 Golfair Blvd. Jacksonville FL 32209 United States;X-APPLE-RADIUS=500;X-TITLE=1157 Golfair Blvd.:geo:-81.6745261,30.3680207
END:VEVENT
BEGIN:VEVENT
DTSTART;TZID=America/New_York:20250604T090000
DTEND;TZID=America/New_York:20250604T090000
DTSTAMP:20260421T233719
CREATED:20250512T075623Z
LAST-MODIFIED:20250604T082650Z
UID:10000003-1749027600-1749027600@moore-myers.org
SUMMARY:INTERMEDIATE
DESCRIPTION:POSTPONED until further notice ‼️
URL:https://moore-myers.org/event/family-championship/
LOCATION:Brentwood Golf Course\, 1157 Golfair Blvd.\, Jacksonville\, FL\, 32209\, United States
CATEGORIES:Growth Academy,Training
ATTACH;FMTTYPE=image/png:https://moore-myers.org/wp-content/uploads/2025/05/EVENTS-CALENDAR-Poster-1.png
GEO:30.3680207;-81.6745261
X-APPLE-STRUCTURED-LOCATION;VALUE=URI;X-ADDRESS=Brentwood Golf Course 1157 Golfair Blvd. Jacksonville FL 32209 United States;X-APPLE-RADIUS=500;X-TITLE=1157 Golfair Blvd.:geo:-81.6745261,30.3680207
END:VEVENT
BEGIN:VEVENT
DTSTART;TZID=America/New_York:20250531T110000
DTEND;TZID=America/New_York:20250531T130000
DTSTAMP:20260421T233719
CREATED:20250512T075927Z
LAST-MODIFIED:20250604T014904Z
UID:10000062-1748689200-1748696400@moore-myers.org
SUMMARY:LADIES ON LINKS
DESCRIPTION:Brentwood Golf Course
URL:https://moore-myers.org/event/community-service-project/
LOCATION:Brentwood Golf Course\, 1157 Golfair Blvd.\, Jacksonville\, FL\, 32209\, United States
CATEGORIES:Growth Academy,Tournament
ATTACH;FMTTYPE=image/png:https://moore-myers.org/wp-content/uploads/2025/05/3.png
GEO:30.3680207;-81.6745261
X-APPLE-STRUCTURED-LOCATION;VALUE=URI;X-ADDRESS=Brentwood Golf Course 1157 Golfair Blvd. Jacksonville FL 32209 United States;X-APPLE-RADIUS=500;X-TITLE=1157 Golfair Blvd.:geo:-81.6745261,30.3680207
END:VEVENT
BEGIN:VEVENT
DTSTART;TZID=America/New_York:20250531T103000
DTEND;TZID=America/New_York:20250531T153000
DTSTAMP:20260421T233719
CREATED:20250513T223753Z
LAST-MODIFIED:20250604T014807Z
UID:10000507-1748687400-1748705400@moore-myers.org
SUMMARY:INTERMEDIATE
DESCRIPTION:Brentwood Golf Course
URL:https://moore-myers.org/event/intermediate-5/
LOCATION:Brentwood Golf Course\, 1157 Golfair Blvd.\, Jacksonville\, FL\, 32209\, United States
CATEGORIES:Growth Academy,Training
ATTACH;FMTTYPE=image/png:https://moore-myers.org/wp-content/uploads/2025/05/EVENTS-CALENDAR-Poster-1.png
GEO:30.3680207;-81.6745261
X-APPLE-STRUCTURED-LOCATION;VALUE=URI;X-ADDRESS=Brentwood Golf Course 1157 Golfair Blvd. Jacksonville FL 32209 United States;X-APPLE-RADIUS=500;X-TITLE=1157 Golfair Blvd.:geo:-81.6745261,30.3680207
END:VEVENT
BEGIN:VEVENT
DTSTART;TZID=America/New_York:20250531T090000
DTEND;TZID=America/New_York:20250531T090000
DTSTAMP:20260421T233719
CREATED:20250512T080022Z
LAST-MODIFIED:20250604T014408Z
UID:10000100-1748682000-1748682000@moore-myers.org
SUMMARY:GROWTH ACADEMY
DESCRIPTION:Brentwood Golf Course
URL:https://moore-myers.org/event/training-ladies-on-links-4/
LOCATION:Brentwood Golf Course\, 1157 Golfair Blvd.\, Jacksonville\, FL\, 32209\, United States
CATEGORIES:Growth Academy,Training
ATTACH;FMTTYPE=image/png:https://moore-myers.org/wp-content/uploads/2025/05/EVENTS-CALENDAR-Poster.png
GEO:30.3680207;-81.6745261
X-APPLE-STRUCTURED-LOCATION;VALUE=URI;X-ADDRESS=Brentwood Golf Course 1157 Golfair Blvd. Jacksonville FL 32209 United States;X-APPLE-RADIUS=500;X-TITLE=1157 Golfair Blvd.:geo:-81.6745261,30.3680207
END:VEVENT
BEGIN:VEVENT
DTSTART;TZID=America/New_York:20250517T110000
DTEND;TZID=America/New_York:20250517T170000
DTSTAMP:20260421T233719
CREATED:20250512T075625Z
LAST-MODIFIED:20250514T085421Z
UID:10000005-1747479600-1747501200@moore-myers.org
SUMMARY:GROWTH ACADEMY
DESCRIPTION:
URL:https://moore-myers.org/event/growth-academy/
LOCATION:Brentwood Golf Course\, 1157 Golfair Blvd.\, Jacksonville\, FL\, 32209\, United States
CATEGORIES:Training
ATTACH;FMTTYPE=image/png:https://moore-myers.org/wp-content/uploads/2025/05/EVENTS-CALENDAR-Poster.png
GEO:30.3680207;-81.6745261
X-APPLE-STRUCTURED-LOCATION;VALUE=URI;X-ADDRESS=Brentwood Golf Course 1157 Golfair Blvd. Jacksonville FL 32209 United States;X-APPLE-RADIUS=500;X-TITLE=1157 Golfair Blvd.:geo:-81.6745261,30.3680207
END:VEVENT
BEGIN:VEVENT
DTSTART;TZID=America/New_York:20250517T090000
DTEND;TZID=America/New_York:20250517T110000
DTSTAMP:20260421T233719
CREATED:20250512T075932Z
LAST-MODIFIED:20250513T055457Z
UID:10000069-1747472400-1747479600@moore-myers.org
SUMMARY:INTERMEDIATE
DESCRIPTION:INTERMEDIATE\n9:00 AM\nBrentwood Golf\nCourse
URL:https://moore-myers.org/event/financial-literacy/
LOCATION:Brentwood Golf Course\, 1157 Golfair Blvd.\, Jacksonville\, FL\, 32209\, United States
CATEGORIES:Training
ATTACH;FMTTYPE=image/png:https://moore-myers.org/wp-content/uploads/2025/05/EVENTS-CALENDAR-Poster-1.png
GEO:30.3680207;-81.6745261
X-APPLE-STRUCTURED-LOCATION;VALUE=URI;X-ADDRESS=Brentwood Golf Course 1157 Golfair Blvd. Jacksonville FL 32209 United States;X-APPLE-RADIUS=500;X-TITLE=1157 Golfair Blvd.:geo:-81.6745261,30.3680207
END:VEVENT
BEGIN:VEVENT
DTSTART;TZID=America/New_York:20250510T103000
DTEND;TZID=America/New_York:20250510T173000
DTSTAMP:20260421T233719
CREATED:20250512T075942Z
LAST-MODIFIED:20250513T052056Z
UID:10000076-1746873000-1746898200@moore-myers.org
SUMMARY:INTERMEDIATE
DESCRIPTION:INTERMEDIATE\n10:30 AM\nBrentwood Golf\nCourse
URL:https://moore-myers.org/event/began-wednesday-training-sessions-6/
LOCATION:Brentwood Golf Course\, 1157 Golfair Blvd.\, Jacksonville\, FL\, 32209\, United States
ATTACH;FMTTYPE=image/png:https://moore-myers.org/wp-content/uploads/2025/05/EVENTS-CALENDAR-Poster-1.png
GEO:30.3680207;-81.6745261
X-APPLE-STRUCTURED-LOCATION;VALUE=URI;X-ADDRESS=Brentwood Golf Course 1157 Golfair Blvd. Jacksonville FL 32209 United States;X-APPLE-RADIUS=500;X-TITLE=1157 Golfair Blvd.:geo:-81.6745261,30.3680207
END:VEVENT
BEGIN:VEVENT
DTSTART;TZID=America/New_York:20250510T090000
DTEND;TZID=America/New_York:20250510T130000
DTSTAMP:20260421T233719
CREATED:20250512T075922Z
LAST-MODIFIED:20250519T193921Z
UID:10000054-1746867600-1746882000@moore-myers.org
SUMMARY:GROWTH ACADEMY
DESCRIPTION:GROWTH ACADEMY\n9:00 AM\nBrentwood Golf Course
URL:https://moore-myers.org/event/growth-academy-37/
LOCATION:Brentwood Golf Course\, 1157 Golfair Blvd.\, Jacksonville\, FL\, 32209\, United States
CATEGORIES:Growth Academy,Training
ATTACH;FMTTYPE=image/png:https://moore-myers.org/wp-content/uploads/2025/05/EVENTS-CALENDAR-Poster.png
GEO:30.3680207;-81.6745261
X-APPLE-STRUCTURED-LOCATION;VALUE=URI;X-ADDRESS=Brentwood Golf Course 1157 Golfair Blvd. Jacksonville FL 32209 United States;X-APPLE-RADIUS=500;X-TITLE=1157 Golfair Blvd.:geo:-81.6745261,30.3680207
END:VEVENT
BEGIN:VEVENT
DTSTART;TZID=America/New_York:20250503T090000
DTEND;TZID=America/New_York:20250503T160000
DTSTAMP:20260421T233719
CREATED:20250512T080002Z
LAST-MODIFIED:20250513T051240Z
UID:10000091-1746262800-1746288000@moore-myers.org
SUMMARY:INTERMEDIATE
DESCRIPTION:INTERMEDIATE\n9:00 AM\nBrentwood Golf\nCourse
URL:https://moore-myers.org/event/training-ladies-on-links/
LOCATION:Brentwood Golf Course\, 1157 Golfair Blvd.\, Jacksonville\, FL\, 32209\, United States
ATTACH;FMTTYPE=image/png:https://moore-myers.org/wp-content/uploads/2025/05/EVENTS-CALENDAR-Poster-1.png
GEO:30.3680207;-81.6745261
X-APPLE-STRUCTURED-LOCATION;VALUE=URI;X-ADDRESS=Brentwood Golf Course 1157 Golfair Blvd. Jacksonville FL 32209 United States;X-APPLE-RADIUS=500;X-TITLE=1157 Golfair Blvd.:geo:-81.6745261,30.3680207
END:VEVENT
BEGIN:VEVENT
DTSTART;TZID=America/New_York:20250426T090000
DTEND;TZID=America/New_York:20250426T180000
DTSTAMP:20260421T233719
CREATED:20250512T190021Z
LAST-MODIFIED:20250512T190046Z
UID:10000284-1745658000-1745690400@moore-myers.org
SUMMARY:GROWTH ACADEMY
DESCRIPTION:GROWTH ACADEMY\n9:00 AM\nBrentwood Golf\nCourse
URL:https://moore-myers.org/event/growth-academy-45/
LOCATION:Brentwood Golf Course\, 1157 Golfair Blvd.\, Jacksonville\, FL\, 32209\, United States
ATTACH;FMTTYPE=image/png:https://moore-myers.org/wp-content/uploads/2025/05/EVENTS-CALENDAR-Poster.png
GEO:30.3680207;-81.6745261
X-APPLE-STRUCTURED-LOCATION;VALUE=URI;X-ADDRESS=Brentwood Golf Course 1157 Golfair Blvd. Jacksonville FL 32209 United States;X-APPLE-RADIUS=500;X-TITLE=1157 Golfair Blvd.:geo:-81.6745261,30.3680207
END:VEVENT
BEGIN:VEVENT
DTSTART;VALUE=DATE:20250419
DTEND;VALUE=DATE:20250420
DTSTAMP:20260421T233719
CREATED:20250512T075913Z
LAST-MODIFIED:20250513T060012Z
UID:10000047-1745020800-1745107199@moore-myers.org
SUMMARY:No Training
DESCRIPTION:The Training for today is canceled.
URL:https://moore-myers.org/event/no-training-4/
LOCATION:Brentwood Golf Course\, 1157 Golfair Blvd.\, Jacksonville\, FL\, 32209\, United States
CATEGORIES:Training
GEO:30.3680207;-81.6745261
X-APPLE-STRUCTURED-LOCATION;VALUE=URI;X-ADDRESS=Brentwood Golf Course 1157 Golfair Blvd. Jacksonville FL 32209 United States;X-APPLE-RADIUS=500;X-TITLE=1157 Golfair Blvd.:geo:-81.6745261,30.3680207
END:VEVENT
BEGIN:VEVENT
DTSTART;TZID=America/New_York:20250405T090000
DTEND;TZID=America/New_York:20250405T170000
DTSTAMP:20260421T233719
CREATED:20250512T075952Z
LAST-MODIFIED:20250512T182748Z
UID:10000080-1743843600-1743872400@moore-myers.org
SUMMARY:INTERMEDIATE
DESCRIPTION:INTERMEDIATE\n9:00 AM\nBrentwood Golf\nCourse
URL:https://moore-myers.org/event/last-training-session/
LOCATION:Brentwood Golf Course\, 1157 Golfair Blvd.\, Jacksonville\, FL\, 32209\, United States
GEO:30.3680207;-81.6745261
X-APPLE-STRUCTURED-LOCATION;VALUE=URI;X-ADDRESS=Brentwood Golf Course 1157 Golfair Blvd. Jacksonville FL 32209 United States;X-APPLE-RADIUS=500;X-TITLE=1157 Golfair Blvd.:geo:-81.6745261,30.3680207
END:VEVENT
END:VCALENDAR